BEGIN:VCALENDAR
VERSION:2.0
PRODID:-//Soho Cricket Collective - ECPv6.15.20//NONSGML v1.0//EN
CALSCALE:GREGORIAN
METHOD:PUBLISH
X-ORIGINAL-URL:https://sohocricketcollective.com
X-WR-CALDESC:Events for Soho Cricket Collective
REFRESH-INTERVAL;VALUE=DURATION:PT1H
X-Robots-Tag:noindex
X-PUBLISHED-TTL:PT1H
BEGIN:VTIMEZONE
TZID:Europe/London
BEGIN:DAYLIGHT
TZOFFSETFROM:+0000
TZOFFSETTO:+0100
TZNAME:BST
DTSTART:20230326T010000
END:DAYLIGHT
BEGIN:STANDARD
TZOFFSETFROM:+0100
TZOFFSETTO:+0000
TZNAME:GMT
DTSTART:20231029T010000
END:STANDARD
BEGIN:DAYLIGHT
TZOFFSETFROM:+0000
TZOFFSETTO:+0100
TZNAME:BST
DTSTART:20240331T010000
END:DAYLIGHT
BEGIN:STANDARD
TZOFFSETFROM:+0100
TZOFFSETTO:+0000
TZNAME:GMT
DTSTART:20241027T010000
END:STANDARD
BEGIN:DAYLIGHT
TZOFFSETFROM:+0000
TZOFFSETTO:+0100
TZNAME:BST
DTSTART:20250330T010000
END:DAYLIGHT
BEGIN:STANDARD
TZOFFSETFROM:+0100
TZOFFSETTO:+0000
TZNAME:GMT
DTSTART:20251026T010000
END:STANDARD
END:VTIMEZONE
BEGIN:VEVENT
DTSTART;TZID=Europe/London:20241108T193000
DTEND;TZID=Europe/London:20241108T233000
DTSTAMP:20260423T224436
CREATED:20240909T205315Z
LAST-MODIFIED:20240909T205330Z
UID:5529-1731094200-1731108600@sohocricketcollective.com
SUMMARY:End of Season Drinks/Awards 2024
DESCRIPTION:End of Season Drinks/Awards 2024\nIt is coming! Watch this space.
URL:https://sohocricketcollective.com/event/end-of-season-drinks-awards-2024
LOCATION:TBC\, United Kingdom
END:VEVENT
END:VCALENDAR